BEGIN:VCALENDAR
VERSION:2.0
PRODID:SchoolNow
CALSCALE:GREGORIAN
BEGIN:VEVENT
UID:59e9409c-3864-11f1-a1d8-0a58a9feac02
DTSTAMP:20260422T091008Z
SUMMARY:School Spirit Wednesday
URL;VALUE=URI:https://www.tusd.org/schools/torrance-elementary/calendar/899
 4267/school-spirit-wednesday
DTSTART;VALUE=DATE:20271215
DTEND;VALUE=DATE:20271216
END:VEVENT
END:VCALENDAR
