BEGIN:VCALENDAR
VERSION:2.0
PRODID:SchoolNow
CALSCALE:GREGORIAN
BEGIN:VEVENT
UID:b3f5dfa4-349b-11f1-be1d-0a58a9feac02
DTSTAMP:20260422T091008Z
SUMMARY:College Gear
URL;VALUE=URI:https://www.tusd.org/schools/torrance-elementary/calendar/898
 3162/college-gear
DTSTART;VALUE=DATE:20271210
DTEND;VALUE=DATE:20271211
END:VEVENT
END:VCALENDAR
