BEGIN:VCALENDAR
VERSION:2.0
PRODID:SchoolNow
CALSCALE:GREGORIAN
BEGIN:VEVENT
UID:52e66e56-3304-11f1-9527-0a58a9feac02
DTSTAMP:20260422T091008Z
SUMMARY:School Spirit Wednesday
URL;VALUE=URI:https://www.tusd.org/schools/torrance-elementary/calendar/897
 8352/school-spirit-wednesday
DTSTART;VALUE=DATE:20271208
DTEND;VALUE=DATE:20271209
END:VEVENT
END:VCALENDAR
