BEGIN:VCALENDAR
VERSION:2.0
PRODID:SchoolNow
CALSCALE:GREGORIAN
BEGIN:VEVENT
UID:862fdcde-2f08-11f1-9a2a-0affc30910e5
DTSTAMP:20260422T091008Z
SUMMARY:College Gear
URL;VALUE=URI:https://www.tusd.org/schools/torrance-elementary/calendar/896
 6833/college-gear
DTSTART;VALUE=DATE:20271203
DTEND;VALUE=DATE:20271204
END:VEVENT
END:VCALENDAR
