BEGIN:VCALENDAR
VERSION:2.0
PRODID:SchoolNow
CALSCALE:GREGORIAN
BEGIN:VEVENT
UID:a5847826-2ca4-11f1-a1de-0a58a9feac02
DTSTAMP:20260422T091008Z
SUMMARY:School Spirit Wednesday
URL;VALUE=URI:https://www.tusd.org/schools/torrance-elementary/calendar/895
 8928/school-spirit-wednesday
DTSTART;VALUE=DATE:20271201
DTEND;VALUE=DATE:20271202
END:VEVENT
END:VCALENDAR
