BEGIN:VCALENDAR
VERSION:2.0
PRODID:SchoolNow
CALSCALE:GREGORIAN
BEGIN:VEVENT
UID:d8f6f6ac-28a8-11f1-8119-0262b4052253
DTSTAMP:20260422T091008Z
SUMMARY:College Gear
URL;VALUE=URI:https://www.tusd.org/schools/torrance-elementary/calendar/894
 5554/college-gear
DTSTART;VALUE=DATE:20271126
DTEND;VALUE=DATE:20271127
END:VEVENT
END:VCALENDAR
