BEGIN:VCALENDAR
VERSION:2.0
PRODID:SchoolNow
CALSCALE:GREGORIAN
BEGIN:VEVENT
UID:eac36214-2743-11f1-9bd6-0a58a9feac02
DTSTAMP:20260422T091008Z
SUMMARY:School Spirit Wednesday
URL;VALUE=URI:https://www.tusd.org/schools/torrance-elementary/calendar/894
 0891/school-spirit-wednesday
DTSTART;VALUE=DATE:20271124
DTEND;VALUE=DATE:20271125
END:VEVENT
END:VCALENDAR
