BEGIN:VCALENDAR
VERSION:2.0
PRODID:SchoolNow
CALSCALE:GREGORIAN
BEGIN:VEVENT
UID:1f38ad42-2348-11f1-9f49-0a58a9feac02
DTSTAMP:20260422T091008Z
SUMMARY:College Gear
URL;VALUE=URI:https://www.tusd.org/schools/torrance-elementary/calendar/892
 8899/college-gear
DTSTART;VALUE=DATE:20271119
DTEND;VALUE=DATE:20271120
END:VEVENT
END:VCALENDAR
