BEGIN:VCALENDAR
VERSION:2.0
PRODID:SchoolNow
CALSCALE:GREGORIAN
BEGIN:VEVENT
UID:2b656f88-2249-11f1-a519-0e35280e77fb
DTSTAMP:20260421T024507Z
SUMMARY:Incoming 6th Grade Math Acceleration Test
LOCATION:J.H. Hull Middle School\, 2080 231st St\, Torrance\, CA 90501\, US
 A
URL;VALUE=URI:https://www.tusd.org/schools/torrance-elementary/calendar/892
 5717/incoming-6th-grade-math-acceleration-test
DTSTART:20260415T223000Z
DTEND:20260416T003000Z
END:VEVENT
END:VCALENDAR
