BEGIN:VCALENDAR
VERSION:2.0
PRODID:SchoolNow
CALSCALE:GREGORIAN
BEGIN:VEVENT
UID:338ae452-21b0-11f1-886e-02b026cb6701
DTSTAMP:20260422T091008Z
SUMMARY:School Spirit Wednesday
URL;VALUE=URI:https://www.tusd.org/schools/torrance-elementary/calendar/892
 3639/school-spirit-wednesday
DTSTART;VALUE=DATE:20271117
DTEND;VALUE=DATE:20271118
END:VEVENT
END:VCALENDAR
