BEGIN:VCALENDAR
VERSION:2.0
PRODID:SchoolNow
CALSCALE:GREGORIAN
BEGIN:VEVENT
UID:6719c5d6-1db4-11f1-9a26-0a58a9feac02
DTSTAMP:20260422T091008Z
SUMMARY:College Gear
URL;VALUE=URI:https://www.tusd.org/schools/torrance-elementary/calendar/891
 1025/college-gear
DTSTART;VALUE=DATE:20271112
DTEND;VALUE=DATE:20271113
END:VEVENT
END:VCALENDAR
