BEGIN:VCALENDAR
VERSION:2.0
PRODID:SchoolNow
CALSCALE:GREGORIAN
BEGIN:VEVENT
UID:7c1a9a9e-1c1c-11f1-a579-0a58a9feac02
DTSTAMP:20260422T091008Z
SUMMARY:School Spirit Wednesday
URL;VALUE=URI:https://www.tusd.org/schools/torrance-elementary/calendar/890
 5256/school-spirit-wednesday
DTSTART;VALUE=DATE:20271110
DTEND;VALUE=DATE:20271111
END:VEVENT
END:VCALENDAR
