BEGIN:VCALENDAR
VERSION:2.0
PRODID:SchoolNow
CALSCALE:GREGORIAN
BEGIN:VEVENT
UID:ad110f2e-1853-11f1-b75a-0a58a9feac02
DTSTAMP:20260422T091008Z
SUMMARY:College Gear
URL;VALUE=URI:https://www.tusd.org/schools/torrance-elementary/calendar/889
 1736/college-gear
DTSTART;VALUE=DATE:20271105
DTEND;VALUE=DATE:20271106
END:VEVENT
END:VCALENDAR
