BEGIN:VCALENDAR
VERSION:2.0
PRODID:SchoolNow
CALSCALE:GREGORIAN
BEGIN:VEVENT
UID:01f150a4-1821-11f1-b154-0a58a9feac02
DTSTAMP:20260422T091008Z
SUMMARY:World Mental Health Day
URL;VALUE=URI:https://www.tusd.org/schools/torrance-elementary/calendar/889
 1076/world-mental-health-day
DTSTART;VALUE=DATE:20271010
DTEND;VALUE=DATE:20271011
END:VEVENT
END:VCALENDAR
