BEGIN:VCALENDAR
VERSION:2.0
PRODID:SchoolNow
CALSCALE:GREGORIAN
BEGIN:VEVENT
UID:01f14f82-1821-11f1-ba76-0a58a9feac02
DTSTAMP:20260422T091008Z
SUMMARY:School Spirit Wednesday
URL;VALUE=URI:https://www.tusd.org/schools/torrance-elementary/calendar/889
 1075/school-spirit-wednesday
DTSTART;VALUE=DATE:20271103
DTEND;VALUE=DATE:20271104
END:VEVENT
END:VCALENDAR
