BEGIN:VCALENDAR
VERSION:2.0
PRODID:SchoolNow
CALSCALE:GREGORIAN
BEGIN:VEVENT
UID:01f14be0-1821-11f1-b95e-0a58a9feac02
DTSTAMP:20260422T091008Z
SUMMARY:School Spirit Wednesday
URL;VALUE=URI:https://www.tusd.org/schools/torrance-elementary/calendar/889
 1071/school-spirit-wednesday
DTSTART;VALUE=DATE:20271006
DTEND;VALUE=DATE:20271007
END:VEVENT
END:VCALENDAR
