BEGIN:VCALENDAR
VERSION:2.0
PRODID:SchoolNow
CALSCALE:GREGORIAN
BEGIN:VEVENT
UID:01f14a0a-1821-11f1-9333-0a58a9feac02
DTSTAMP:20260422T030508Z
SUMMARY:School Spirit Wednesday
URL;VALUE=URI:https://www.tusd.org/schools/torrance-elementary/calendar/889
 1069/school-spirit-wednesday
DTSTART;VALUE=DATE:20270922
DTEND;VALUE=DATE:20270923
END:VEVENT
END:VCALENDAR
