BEGIN:VCALENDAR
VERSION:2.0
PRODID:SchoolNow
CALSCALE:GREGORIAN
BEGIN:VEVENT
UID:01f1491a-1821-11f1-8e7c-0a58a9feac02
DTSTAMP:20260422T030508Z
SUMMARY:School Spirit Wednesday
URL;VALUE=URI:https://www.tusd.org/schools/torrance-elementary/calendar/889
 1068/school-spirit-wednesday
DTSTART;VALUE=DATE:20270915
DTEND;VALUE=DATE:20270916
END:VEVENT
END:VCALENDAR
