BEGIN:VCALENDAR
VERSION:2.0
PRODID:SchoolNow
CALSCALE:GREGORIAN
BEGIN:VEVENT
UID:01f145d2-1821-11f1-a175-0a58a9feac02
DTSTAMP:20260420T022510Z
SUMMARY:School Spirit Wednesday
URL;VALUE=URI:https://www.tusd.org/schools/torrance-elementary/calendar/889
 1065/school-spirit-wednesday
DTSTART;VALUE=DATE:20270825
DTEND;VALUE=DATE:20270826
END:VEVENT
END:VCALENDAR
