BEGIN:VCALENDAR
VERSION:2.0
PRODID:SchoolNow
CALSCALE:GREGORIAN
BEGIN:VEVENT
UID:01e3f454-1821-11f1-9213-0a58a9feac02
DTSTAMP:20260422T091008Z
SUMMARY:College Gear
URL;VALUE=URI:https://www.tusd.org/schools/torrance-elementary/calendar/889
 1061/college-gear
DTSTART;VALUE=DATE:20271015
DTEND;VALUE=DATE:20271016
END:VEVENT
END:VCALENDAR
