BEGIN:VCALENDAR
VERSION:2.0
PRODID:SchoolNow
CALSCALE:GREGORIAN
BEGIN:VEVENT
UID:01e3efa4-1821-11f1-af3d-0a58a9feac02
DTSTAMP:20260422T030508Z
SUMMARY:College Gear
URL;VALUE=URI:https://www.tusd.org/schools/torrance-elementary/calendar/889
 1057/college-gear
DTSTART;VALUE=DATE:20270917
DTEND;VALUE=DATE:20270918
END:VEVENT
END:VCALENDAR
