BEGIN:VCALENDAR
VERSION:2.0
PRODID:SchoolNow
CALSCALE:GREGORIAN
BEGIN:VEVENT
UID:01e3ec66-1821-11f1-8813-0a58a9feac02
DTSTAMP:20260420T022510Z
SUMMARY:College Gear
URL;VALUE=URI:https://www.tusd.org/schools/torrance-elementary/calendar/889
 1054/college-gear
DTSTART;VALUE=DATE:20270827
DTEND;VALUE=DATE:20270828
END:VEVENT
END:VCALENDAR
