BEGIN:VCALENDAR
VERSION:2.0
PRODID:SchoolNow
CALSCALE:GREGORIAN
BEGIN:VEVENT
UID:01e3e89c-1821-11f1-a807-0a58a9feac02
DTSTAMP:20260420T022510Z
SUMMARY:College Gear
URL;VALUE=URI:https://www.tusd.org/schools/torrance-elementary/calendar/889
 1053/college-gear
DTSTART;VALUE=DATE:20270820
DTEND;VALUE=DATE:20270821
END:VEVENT
END:VCALENDAR
