BEGIN:VCALENDAR
VERSION:2.0
PRODID:SchoolNow
CALSCALE:GREGORIAN
BEGIN:VEVENT
UID:01b716c8-1821-11f1-bac2-0a58a9feac02
DTSTAMP:20260419T081007Z
SUMMARY:TK/Kinder Meet and Greet
URL;VALUE=URI:https://www.tusd.org/schools/torrance-elementary/calendar/889
 1052/tk-kinder-meet-and-greet
DTSTART:20260819T220000Z
DTEND:20260819T230000Z
END:VEVENT
END:VCALENDAR
