BEGIN:VCALENDAR
VERSION:2.0
PRODID:SchoolNow
CALSCALE:GREGORIAN
BEGIN:VEVENT
UID:01b71498-1821-11f1-a660-0a58a9feac02
DTSTAMP:20260421T085008Z
SUMMARY:Multicultural Night/Association Meeting
URL;VALUE=URI:https://www.tusd.org/schools/torrance-elementary/calendar/889
 1050/multicultural-night-association-meeting
DTSTART:20260424T000000Z
DTEND:20260424T020000Z
END:VEVENT
END:VCALENDAR
