BEGIN:VCALENDAR
VERSION:2.0
PRODID:SchoolNow
CALSCALE:GREGORIAN
BEGIN:VEVENT
UID:01b71376-1821-11f1-aeb4-0a58a9feac02
DTSTAMP:20260421T085008Z
SUMMARY:TK/Kindergarten Round up
URL;VALUE=URI:https://www.tusd.org/schools/torrance-elementary/calendar/889
 1049/tk-kindergarten-round-up
DTSTART:20260507T210000Z
DTEND:20260507T220000Z
END:VEVENT
END:VCALENDAR
