BEGIN:VCALENDAR
VERSION:2.0
PRODID:SchoolNow
CALSCALE:GREGORIAN
BEGIN:VEVENT
UID:01b7113c-1821-11f1-9105-0a58a9feac02
DTSTAMP:20260421T085008Z
SUMMARY:TK/Kinder Round Up
URL;VALUE=URI:https://www.tusd.org/schools/torrance-elementary/calendar/889
 1048/tk-kinder-round-up
DTSTART:20260514T210000Z
DTEND:20260514T220000Z
END:VEVENT
END:VCALENDAR
