BEGIN:VCALENDAR
VERSION:2.0
PRODID:SchoolNow
CALSCALE:GREGORIAN
BEGIN:VEVENT
UID:01b6f09e-1821-11f1-af70-0a58a9feac02
DTSTAMP:20260421T085008Z
SUMMARY:Talent Show
URL;VALUE=URI:https://www.tusd.org/schools/torrance-elementary/calendar/889
 1047/talent-show
DTSTART:20260220T013000Z
DTEND:20260220T033000Z
END:VEVENT
END:VCALENDAR
