BEGIN:VCALENDAR
VERSION:2.0
PRODID:SchoolNow
CALSCALE:GREGORIAN
BEGIN:VEVENT
UID:0597df88-d7bd-11f0-baee-0a58a9feac02
DTSTAMP:20260420T022510Z
SUMMARY:College Gear
URL;VALUE=URI:https://www.tusd.org/schools/torrance-elementary/calendar/882
 3215/college-gear
DTSTART;VALUE=DATE:20270813
DTEND;VALUE=DATE:20270814
END:VEVENT
END:VCALENDAR
