BEGIN:VCALENDAR
VERSION:2.0
PRODID:SchoolNow
CALSCALE:GREGORIAN
BEGIN:VEVENT
UID:1c09d95e-d625-11f0-9fc5-0affe9869b0d
DTSTAMP:20260420T022510Z
SUMMARY:School Spirit Wednesday
URL;VALUE=URI:https://www.tusd.org/schools/torrance-elementary/calendar/882
 1512/school-spirit-wednesday
DTSTART;VALUE=DATE:20270811
DTEND;VALUE=DATE:20270812
END:VEVENT
END:VCALENDAR
