BEGIN:VCALENDAR
VERSION:2.0
PRODID:SchoolNow
CALSCALE:GREGORIAN
BEGIN:VEVENT
UID:4ab390b4-d25c-11f0-82f2-0a58a9feac02
DTSTAMP:20260420T022510Z
SUMMARY:College Gear
URL;VALUE=URI:https://www.tusd.org/schools/torrance-elementary/calendar/881
 8993/college-gear
DTSTART;VALUE=DATE:20270806
DTEND;VALUE=DATE:20270807
END:VEVENT
END:VCALENDAR
