BEGIN:VCALENDAR
VERSION:2.0
PRODID:SchoolNow
CALSCALE:GREGORIAN
BEGIN:VEVENT
UID:62585c98-d0c4-11f0-9e72-0ecc1d953d4b
DTSTAMP:20260420T022510Z
SUMMARY:School Spirit Wednesday
URL;VALUE=URI:https://www.tusd.org/schools/torrance-elementary/calendar/881
 7106/school-spirit-wednesday
DTSTART;VALUE=DATE:20270804
DTEND;VALUE=DATE:20270805
END:VEVENT
END:VCALENDAR
