BEGIN:VCALENDAR
VERSION:2.0
PRODID:SchoolNow
CALSCALE:GREGORIAN
BEGIN:VEVENT
UID:8a8e411a-cd94-11f0-820b-0a58a9feac02
DTSTAMP:20260420T022510Z
SUMMARY:College Gear
URL;VALUE=URI:https://www.tusd.org/schools/torrance-elementary/calendar/881
 3180/college-gear
DTSTART;VALUE=DATE:20270730
DTEND;VALUE=DATE:20270731
END:VEVENT
END:VCALENDAR
