BEGIN:VCALENDAR
VERSION:2.0
PRODID:SchoolNow
CALSCALE:GREGORIAN
BEGIN:VEVENT
UID:9f94db76-cbfc-11f0-99e0-0205fdf600f9
DTSTAMP:20260420T022510Z
SUMMARY:School Spirit Wednesday
URL;VALUE=URI:https://www.tusd.org/schools/torrance-elementary/calendar/881
 1088/school-spirit-wednesday
DTSTART;VALUE=DATE:20270728
DTEND;VALUE=DATE:20270729
END:VEVENT
END:VCALENDAR
