BEGIN:VCALENDAR
VERSION:2.0
PRODID:SchoolNow
CALSCALE:GREGORIAN
BEGIN:VEVENT
UID:d1928ce0-c800-11f0-910f-0a58a9feac02
DTSTAMP:20260420T022510Z
SUMMARY:College Gear
URL;VALUE=URI:https://www.tusd.org/schools/torrance-elementary/calendar/880
 8233/college-gear
DTSTART;VALUE=DATE:20270723
DTEND;VALUE=DATE:20270724
END:VEVENT
END:VCALENDAR
