BEGIN:VCALENDAR
VERSION:2.0
PRODID:SchoolNow
CALSCALE:GREGORIAN
BEGIN:VEVENT
UID:e3624afc-c69b-11f0-974b-026badfefcc7
DTSTAMP:20260420T022510Z
SUMMARY:School Spirit Wednesday
URL;VALUE=URI:https://www.tusd.org/schools/torrance-elementary/calendar/880
 6961/school-spirit-wednesday
DTSTART;VALUE=DATE:20270721
DTEND;VALUE=DATE:20270722
END:VEVENT
END:VCALENDAR
