BEGIN:VCALENDAR
VERSION:2.0
PRODID:SchoolNow
CALSCALE:GREGORIAN
BEGIN:VEVENT
UID:166f6bd2-c2a0-11f0-9f4d-0e73abc8d1bb
DTSTAMP:20260420T022510Z
SUMMARY:College Gear
URL;VALUE=URI:https://www.tusd.org/schools/torrance-elementary/calendar/879
 7748/college-gear
DTSTART;VALUE=DATE:20270716
DTEND;VALUE=DATE:20270717
END:VEVENT
END:VCALENDAR
