BEGIN:VCALENDAR
VERSION:2.0
PRODID:SchoolNow
CALSCALE:GREGORIAN
BEGIN:VEVENT
UID:2e4135b8-c108-11f0-a0c9-02d9961e52d1
DTSTAMP:20260420T022510Z
SUMMARY:School Spirit Wednesday
URL;VALUE=URI:https://www.tusd.org/schools/torrance-elementary/calendar/879
 4874/school-spirit-wednesday
DTSTART;VALUE=DATE:20270714
DTEND;VALUE=DATE:20270715
END:VEVENT
END:VCALENDAR
