BEGIN:VCALENDAR
VERSION:2.0
PRODID:SchoolNow
CALSCALE:GREGORIAN
BEGIN:VEVENT
UID:5edddcda-bd0c-11f0-8081-0affd52ab8c5
DTSTAMP:20260420T022510Z
SUMMARY:College Gear
URL;VALUE=URI:https://www.tusd.org/schools/torrance-elementary/calendar/878
 5558/college-gear
DTSTART;VALUE=DATE:20270709
DTEND;VALUE=DATE:20270710
END:VEVENT
END:VCALENDAR
