BEGIN:VCALENDAR
VERSION:2.0
PRODID:SchoolNow
CALSCALE:GREGORIAN
BEGIN:VEVENT
UID:771cd150-bb74-11f0-862a-0214119c4f6b
DTSTAMP:20260420T022510Z
SUMMARY:School Spirit Wednesday
URL;VALUE=URI:https://www.tusd.org/schools/torrance-elementary/calendar/878
 2044/school-spirit-wednesday
DTSTART;VALUE=DATE:20270707
DTEND;VALUE=DATE:20270708
END:VEVENT
END:VCALENDAR
