BEGIN:VCALENDAR
VERSION:2.0
PRODID:SchoolNow
CALSCALE:GREGORIAN
BEGIN:VEVENT
UID:97612cca-b8dd-11f0-9455-0affd94213fd
DTSTAMP:20260420T022510Z
SUMMARY:College Gear
URL;VALUE=URI:https://www.tusd.org/schools/torrance-elementary/calendar/877
 1097/college-gear
DTSTART;VALUE=DATE:20270702
DTEND;VALUE=DATE:20270703
END:VEVENT
END:VCALENDAR
