BEGIN:VCALENDAR
VERSION:2.0
PRODID:SchoolNow
CALSCALE:GREGORIAN
BEGIN:VEVENT
UID:bde17154-b57a-11f0-85a1-0a58a9feac02
DTSTAMP:20260420T022510Z
SUMMARY:School Spirit Wednesday
URL;VALUE=URI:https://www.tusd.org/schools/torrance-elementary/calendar/876
 1089/school-spirit-wednesday
DTSTART;VALUE=DATE:20270630
DTEND;VALUE=DATE:20270701
END:VEVENT
END:VCALENDAR
