BEGIN:VCALENDAR
VERSION:2.0
PRODID:SchoolNow
CALSCALE:GREGORIAN
BEGIN:VEVENT
UID:cc2d544a-b448-11f0-97dd-0a58a9feac02
DTSTAMP:20260420T022510Z
SUMMARY:School Spirit Wednesday
URL;VALUE=URI:https://www.tusd.org/schools/torrance-elementary/calendar/875
 7832/school-spirit-wednesday
DTSTART;VALUE=DATE:20270623
DTEND;VALUE=DATE:20270624
END:VEVENT
END:VCALENDAR
