BEGIN:VCALENDAR
VERSION:2.0
PRODID:SchoolNow
CALSCALE:GREGORIAN
BEGIN:VEVENT
UID:cc274f00-b448-11f0-868e-0a58a9feac02
DTSTAMP:20260420T022510Z
SUMMARY:College Gear
URL;VALUE=URI:https://www.tusd.org/schools/torrance-elementary/calendar/875
 7831/college-gear
DTSTART;VALUE=DATE:20270625
DTEND;VALUE=DATE:20270626
END:VEVENT
END:VCALENDAR
