BEGIN:VCALENDAR
VERSION:2.0
PRODID:SchoolNow
CALSCALE:GREGORIAN
BEGIN:VEVENT
UID:cc274b7c-b448-11f0-94da-0a58a9feac02
DTSTAMP:20260420T022510Z
SUMMARY:College Gear
URL;VALUE=URI:https://www.tusd.org/schools/torrance-elementary/calendar/875
 7830/college-gear
DTSTART;VALUE=DATE:20270618
DTEND;VALUE=DATE:20270619
END:VEVENT
END:VCALENDAR
