BEGIN:VCALENDAR
VERSION:2.0
PRODID:SchoolNow
CALSCALE:GREGORIAN
BEGIN:VEVENT
UID:bb4ed6e0-aa38-11f0-a7b2-0a58a9feac02
DTSTAMP:20260420T022510Z
SUMMARY:School Spirit Wednesday
URL;VALUE=URI:https://www.tusd.org/schools/torrance-elementary/calendar/872
 5937/school-spirit-wednesday
DTSTART;VALUE=DATE:20270616
DTEND;VALUE=DATE:20270617
END:VEVENT
END:VCALENDAR
