BEGIN:VCALENDAR
VERSION:2.0
PRODID:SchoolNow
CALSCALE:GREGORIAN
BEGIN:VEVENT
UID:c68f29b4-a96c-11f0-a1a3-0a58a9feac02
DTSTAMP:20260420T022510Z
SUMMARY:School Spirit Wednesday
URL;VALUE=URI:https://www.tusd.org/schools/torrance-elementary/calendar/872
 3085/school-spirit-wednesday
DTSTART;VALUE=DATE:20270609
DTEND;VALUE=DATE:20270610
END:VEVENT
END:VCALENDAR
