BEGIN:VCALENDAR
VERSION:2.0
PRODID:SchoolNow
CALSCALE:GREGORIAN
BEGIN:VEVENT
UID:c68f25c2-a96c-11f0-a0d1-0a58a9feac02
DTSTAMP:20260420T022510Z
SUMMARY:School Spirit Wednesday
URL;VALUE=URI:https://www.tusd.org/schools/torrance-elementary/calendar/872
 3084/school-spirit-wednesday
DTSTART;VALUE=DATE:20270602
DTEND;VALUE=DATE:20270603
END:VEVENT
END:VCALENDAR
