BEGIN:VCALENDAR
VERSION:2.0
PRODID:SchoolNow
CALSCALE:GREGORIAN
BEGIN:VEVENT
UID:c686b09a-a96c-11f0-8f1a-0a58a9feac02
DTSTAMP:20260420T022510Z
SUMMARY:College Gear
URL;VALUE=URI:https://www.tusd.org/schools/torrance-elementary/calendar/872
 3083/college-gear
DTSTART;VALUE=DATE:20270611
DTEND;VALUE=DATE:20270612
END:VEVENT
END:VCALENDAR
