BEGIN:VCALENDAR
VERSION:2.0
PRODID:SchoolNow
CALSCALE:GREGORIAN
BEGIN:VEVENT
UID:c686a35c-a96c-11f0-91e8-0a58a9feac02
DTSTAMP:20260420T022510Z
SUMMARY:College Gear
URL;VALUE=URI:https://www.tusd.org/schools/torrance-elementary/calendar/872
 3082/college-gear
DTSTART;VALUE=DATE:20270604
DTEND;VALUE=DATE:20270605
END:VEVENT
END:VCALENDAR
